Package: betaHMM Version: 1.5.1 Command: /Library/Frameworks/R.framework/Resources/bin/R CMD build --keep-empty-dirs --no-resave-data betaHMM StartedAt: 2025-10-19 16:10:59 -0400 (Sun, 19 Oct 2025) EndedAt: 2025-10-19 16:17:21 -0400 (Sun, 19 Oct 2025) EllapsedTime: 381.2 seconds RetCode: 0 Status: OK PackageFile: betaHMM_1.5.1.tar.gz PackageFileSize: 3.838 MiB