Package: betaHMM Version: 1.5.1 Command: /Library/Frameworks/R.framework/Resources/bin/R CMD INSTALL betaHMM StartedAt: 2025-10-19 15:11:33 -0400 (Sun, 19 Oct 2025) EndedAt: 2025-10-19 15:11:44 -0400 (Sun, 19 Oct 2025) EllapsedTime: 11.2 seconds RetCode: 0 Status: OK