Package: betaHMM Version: 1.5.1 Command: /Library/Frameworks/R.framework/Resources/bin/R CMD check --install=check:betaHMM.install-out.txt --library=/Library/Frameworks/R.framework/Resources/library --no-vignettes --timings betaHMM_1.5.1.tar.gz StartedAt: 2025-10-19 18:34:48 -0400 (Sun, 19 Oct 2025) EndedAt: 2025-10-19 18:38:41 -0400 (Sun, 19 Oct 2025) EllapsedTime: 232.1 seconds RetCode: 0 Status: OK CheckDir: betaHMM.Rcheck Warnings: 0