Package: benchdamic Version: 1.15.4 Command: /home/biocbuild/R/R/bin/R CMD check --install=check:benchdamic.install-out.txt --library=/home/biocbuild/R/R/site-library --no-vignettes --timings benchdamic_1.15.4.tar.gz StartedAt: 2025-10-14 05:13:33 -0000 (Tue, 14 Oct 2025) EndedAt: 2025-10-14 06:01:41 -0000 (Tue, 14 Oct 2025) EllapsedTime: 2887.6 seconds RetCode: None Status: TIMEOUT CheckDir: benchdamic.Rcheck Warnings: NA