Package: benchdamic Version: 1.15.4 Command: /home/biocbuild/R/R/bin/R CMD build --keep-empty-dirs --no-resave-data benchdamic StartedAt: 2025-10-13 22:34:20 -0000 (Mon, 13 Oct 2025) EndedAt: 2025-10-13 23:06:50 -0000 (Mon, 13 Oct 2025) EllapsedTime: 1949.7 seconds RetCode: 0 Status: OK PackageFile: benchdamic_1.15.4.tar.gz PackageFileSize: 2.413 MiB