Package: benchdamic Version: 1.15.3 Command: F:\biocbuild\bbs-3.22-bioc\R\bin\R.exe CMD INSTALL benchdamic StartedAt: 2025-08-14 16:16:35 -0400 (Thu, 14 Aug 2025) EndedAt: 2025-08-14 16:18:38 -0400 (Thu, 14 Aug 2025) EllapsedTime: 123.5 seconds RetCode: 0 Status: OK