Package: benchdamic Version: 1.15.3 Command: chmod a+r benchdamic -R && F:\biocbuild\bbs-3.22-bioc\R\bin\R.exe CMD build --keep-empty-dirs --no-resave-data benchdamic StartedAt: 2025-08-14 18:38:31 -0400 (Thu, 14 Aug 2025) EndedAt: 2025-08-14 19:08:22 -0400 (Thu, 14 Aug 2025) EllapsedTime: 1791.0 seconds RetCode: 0 Status: OK PackageFile: benchdamic_1.15.3.tar.gz PackageFileSize: 1.965 MiB