Package: benchdamic Version: 1.15.3 Command: rm -rf benchdamic.buildbin-libdir && mkdir benchdamic.buildbin-libdir && F:\biocbuild\bbs-3.22-bioc\R\bin\R.exe CMD INSTALL --build --library=benchdamic.buildbin-libdir benchdamic_1.15.3.tar.gz StartedAt: 2025-08-15 09:47:48 -0400 (Fri, 15 Aug 2025) EndedAt: 2025-08-15 09:50:45 -0400 (Fri, 15 Aug 2025) EllapsedTime: 176.9 seconds RetCode: 0 Status: OK PackageFile: benchdamic_1.15.3.zip PackageFileSize: 2.308 MiB