Package: benchdamic Version: 1.15.4 Command: /Library/Frameworks/R.framework/Resources/bin/R CMD INSTALL benchdamic StartedAt: 2025-10-15 15:16:50 -0400 (Wed, 15 Oct 2025) EndedAt: 2025-10-15 15:17:17 -0400 (Wed, 15 Oct 2025) EllapsedTime: 27.3 seconds RetCode: 0 Status: OK