Package: benchdamic Version: 1.15.4 Command: /Library/Frameworks/R.framework/Resources/bin/R CMD build --keep-empty-dirs --no-resave-data benchdamic StartedAt: 2025-10-15 15:44:41 -0400 (Wed, 15 Oct 2025) EndedAt: 2025-10-15 15:51:45 -0400 (Wed, 15 Oct 2025) EllapsedTime: 423.8 seconds RetCode: 0 Status: OK PackageFile: benchdamic_1.15.4.tar.gz PackageFileSize: 5.761 MiB