Package: benchdamic Version: 1.15.4 Command: rm -rf benchdamic.buildbin-libdir && mkdir benchdamic.buildbin-libdir && /Users/biocbuild/BBS/utils/build-universal.sh benchdamic_1.15.4.tar.gz /Library/Frameworks/R.framework/Resources/bin/R benchdamic.buildbin-libdir StartedAt: 2025-10-15 22:38:07 -0400 (Wed, 15 Oct 2025) EndedAt: 2025-10-15 22:38:38 -0400 (Wed, 15 Oct 2025) EllapsedTime: 30.6 seconds RetCode: 0 Status: OK PackageFile: benchdamic_1.15.4.tgz PackageFileSize: 6.116 MiB