Package: beer Version: 1.14.1 Command: /home/biocbuild/R/R/bin/R CMD build --keep-empty-dirs --no-resave-data beer StartedAt: 2025-11-21 00:36:42 -0000 (Fri, 21 Nov 2025) EndedAt: 2025-11-21 00:36:43 -0000 (Fri, 21 Nov 2025) EllapsedTime: 1.0 seconds RetCode: 1 Status: ERROR PackageFile: None PackageFileSize: NA