Package: beer Version: 1.14.1 Command: /Library/Frameworks/R.framework/Resources/bin/R CMD INSTALL beer StartedAt: 2025-11-17 18:37:37 -0500 (Mon, 17 Nov 2025) EndedAt: 2025-11-17 18:38:39 -0500 (Mon, 17 Nov 2025) EllapsedTime: 61.4 seconds RetCode: 0 Status: OK