Package: beer Version: 1.14.1 Command: /Library/Frameworks/R.framework/Resources/bin/R CMD check --install=check:beer.install-out.txt --library=/Library/Frameworks/R.framework/Resources/library --no-vignettes --timings beer_1.14.1.tar.gz StartedAt: 2025-11-18 04:13:44 -0500 (Tue, 18 Nov 2025) EndedAt: 2025-11-18 04:37:57 -0500 (Tue, 18 Nov 2025) EllapsedTime: 1452.9 seconds RetCode: 0 Status: OK CheckDir: beer.Rcheck Warnings: 0