Package: beer Version: 1.14.1 Command: /Library/Frameworks/R.framework/Resources/bin/R CMD build --keep-empty-dirs --no-resave-data beer StartedAt: 2025-11-17 20:30:14 -0500 (Mon, 17 Nov 2025) EndedAt: 2025-11-17 20:36:57 -0500 (Mon, 17 Nov 2025) EllapsedTime: 403.4 seconds RetCode: 0 Status: OK PackageFile: beer_1.14.1.tar.gz PackageFileSize: 611 KiB