Package: beer Version: 1.14.0 Command: /Library/Frameworks/R.framework/Resources/bin/R CMD INSTALL beer StartedAt: 2025-11-03 15:46:14 -0500 (Mon, 03 Nov 2025) EndedAt: 2025-11-03 15:46:52 -0500 (Mon, 03 Nov 2025) EllapsedTime: 38.5 seconds RetCode: 0 Status: OK