Package: beer Version: 1.14.1 Command: /Library/Frameworks/R.framework/Resources/bin/R CMD check --install=check:beer.install-out.txt --library=/Library/Frameworks/R.framework/Resources/library --no-vignettes --timings beer_1.14.1.tar.gz StartedAt: 2025-11-21 16:24:07 -0500 (Fri, 21 Nov 2025) EndedAt: 2025-11-21 16:42:31 -0500 (Fri, 21 Nov 2025) EllapsedTime: 1103.5 seconds RetCode: 0 Status: OK CheckDir: beer.Rcheck Warnings: 0