Package: beer Version: 1.14.1 Command: /Library/Frameworks/R.framework/Resources/bin/R CMD build --keep-empty-dirs --no-resave-data beer StartedAt: 2025-11-17 19:20:07 -0500 (Mon, 17 Nov 2025) EndedAt: 2025-11-17 19:21:11 -0500 (Mon, 17 Nov 2025) EllapsedTime: 63.6 seconds RetCode: 0 Status: OK PackageFile: beer_1.14.1.tar.gz PackageFileSize: 611.3 KiB