Package: beer Version: 1.14.1 Command: rm -rf beer.buildbin-libdir && mkdir beer.buildbin-libdir && /Users/biocbuild/BBS/utils/build-universal.sh beer_1.14.1.tar.gz /Library/Frameworks/R.framework/Resources/bin/R beer.buildbin-libdir StartedAt: 2025-11-18 15:09:39 -0500 (Tue, 18 Nov 2025) EndedAt: 2025-11-18 15:09:57 -0500 (Tue, 18 Nov 2025) EllapsedTime: 17.2 seconds RetCode: 0 Status: OK PackageFile: beer_1.14.1.tgz PackageFileSize: 707.2 KiB