Package: beer Version: 1.14.1 Maintainer: Athena Chen MaintainerEmail: achen70 at jhu.edu git_url: https://git.bioconductor.org/packages/beer git_branch: RELEASE_3_22 git_last_commit: 32460e9 git_last_commit_date: 2025-11-14 23:31:44 -0500 (Fri, 14 Nov 2025)