Package: beadarray Version: 2.59.0 Command: /Library/Frameworks/R.framework/Resources/bin/R CMD INSTALL beadarray StartedAt: 2025-10-19 15:15:36 -0400 (Sun, 19 Oct 2025) EndedAt: 2025-10-19 15:15:46 -0400 (Sun, 19 Oct 2025) EllapsedTime: 10.6 seconds RetCode: 0 Status: OK