Package: beadarray Version: 2.59.0 Command: /Library/Frameworks/R.framework/Resources/bin/R CMD build --keep-empty-dirs --no-resave-data beadarray StartedAt: 2025-10-19 15:43:32 -0400 (Sun, 19 Oct 2025) EndedAt: 2025-10-19 15:44:44 -0400 (Sun, 19 Oct 2025) EllapsedTime: 71.8 seconds RetCode: 0 Status: OK PackageFile: beadarray_2.59.0.tar.gz PackageFileSize: 4.289 MiB