Package: beachmat Version: 2.25.5 Command: /home/biocbuild/R/R/bin/R CMD INSTALL beachmat StartedAt: 2025-10-23 20:35:17 -0000 (Thu, 23 Oct 2025) EndedAt: 2025-10-23 20:38:11 -0000 (Thu, 23 Oct 2025) EllapsedTime: 174.3 seconds RetCode: 0 Status: OK