Package: beachmat Version: 2.26.0 Command: /home/biocbuild/R/R/bin/R CMD check --install=check:beachmat.install-out.txt --library=/home/biocbuild/R/R/site-library --no-vignettes --timings beachmat_2.26.0.tar.gz StartedAt: 2025-11-18 06:54:09 -0000 (Tue, 18 Nov 2025) EndedAt: 2025-11-18 07:01:47 -0000 (Tue, 18 Nov 2025) EllapsedTime: 457.4 seconds RetCode: 0 Status: OK CheckDir: beachmat.Rcheck Warnings: 0