Package: beachmat Version: 2.25.5 Command: /home/biocbuild/R/R/bin/R CMD build --keep-empty-dirs --no-resave-data beachmat StartedAt: 2025-10-20 22:05:27 -0000 (Mon, 20 Oct 2025) EndedAt: 2025-10-20 22:08:31 -0000 (Mon, 20 Oct 2025) EllapsedTime: 184.0 seconds RetCode: 0 Status: OK PackageFile: beachmat_2.25.5.tar.gz PackageFileSize: 438.1 KiB