Package: beachmat Version: 2.25.4 Command: F:\biocbuild\bbs-3.22-bioc\R\bin\R.exe CMD check --no-multiarch --install=check:beachmat.install-out.txt --library=F:\biocbuild\bbs-3.22-bioc\R\library --no-vignettes --timings beachmat_2.25.4.tar.gz StartedAt: 2025-08-15 00:48:02 -0400 (Fri, 15 Aug 2025) EndedAt: 2025-08-15 00:56:12 -0400 (Fri, 15 Aug 2025) EllapsedTime: 490.2 seconds RetCode: 0 Status: OK CheckDir: beachmat.Rcheck Warnings: 0