Package: beachmat Version: 2.25.4 Command: chmod a+r beachmat -R && F:\biocbuild\bbs-3.22-bioc\R\bin\R.exe CMD build --keep-empty-dirs --no-resave-data beachmat StartedAt: 2025-08-14 18:36:38 -0400 (Thu, 14 Aug 2025) EndedAt: 2025-08-14 18:39:51 -0400 (Thu, 14 Aug 2025) EllapsedTime: 193.7 seconds RetCode: 0 Status: OK PackageFile: beachmat_2.25.4.tar.gz PackageFileSize: 369.9 KiB