Package: beachmat Version: 2.25.5 Command: /Library/Frameworks/R.framework/Resources/bin/R CMD INSTALL beachmat StartedAt: 2025-10-08 15:22:16 -0400 (Wed, 08 Oct 2025) EndedAt: 2025-10-08 15:24:26 -0400 (Wed, 08 Oct 2025) EllapsedTime: 129.5 seconds RetCode: 0 Status: OK