Package: beachmat Version: 2.25.5 Command: rm -rf beachmat.buildbin-libdir && mkdir beachmat.buildbin-libdir && /Users/biocbuild/BBS/utils/build-universal.sh beachmat_2.25.5.tar.gz /Library/Frameworks/R.framework/Resources/bin/R beachmat.buildbin-libdir StartedAt: 2025-10-10 02:23:39 -0400 (Fri, 10 Oct 2025) EndedAt: 2025-10-10 02:25:58 -0400 (Fri, 10 Oct 2025) EllapsedTime: 138.7 seconds RetCode: 0 Status: OK PackageFile: beachmat_2.25.5.tgz PackageFileSize: 964.3 KiB