Package: beachmat Version: 2.25.5 Command: /Library/Frameworks/R.framework/Resources/bin/R CMD build --keep-empty-dirs --no-resave-data beachmat StartedAt: 2025-10-08 15:49:00 -0400 (Wed, 08 Oct 2025) EndedAt: 2025-10-08 15:49:38 -0400 (Wed, 08 Oct 2025) EllapsedTime: 37.4 seconds RetCode: 0 Status: OK PackageFile: beachmat_2.25.5.tar.gz PackageFileSize: 370.2 KiB