Package: beachmat.tiledb Version: 1.1.1 Command: /home/biocbuild/R/R/bin/R CMD INSTALL beachmat.tiledb StartedAt: 2025-10-16 21:31:23 -0000 (Thu, 16 Oct 2025) EndedAt: 2025-10-16 21:31:24 -0000 (Thu, 16 Oct 2025) EllapsedTime: 1.0 seconds RetCode: 1 Status: ERROR