Package: beachmat.tiledb Version: 1.1.1 Command: /Library/Frameworks/R.framework/Resources/bin/R CMD INSTALL beachmat.tiledb StartedAt: 2025-10-03 15:19:53 -0400 (Fri, 03 Oct 2025) EndedAt: 2025-10-03 15:22:01 -0400 (Fri, 03 Oct 2025) EllapsedTime: 128.0 seconds RetCode: 0 Status: OK