Package: beachmat.tiledb Version: 1.2.0 Command: /Library/Frameworks/R.framework/Resources/bin/R CMD build --keep-empty-dirs --no-resave-data beachmat.tiledb StartedAt: 2025-11-20 20:36:13 -0500 (Thu, 20 Nov 2025) EndedAt: 2025-11-20 20:38:05 -0500 (Thu, 20 Nov 2025) EllapsedTime: 111.9 seconds RetCode: 0 Status: OK PackageFile: beachmat.tiledb_1.2.0.tar.gz PackageFileSize: 321.9 KiB