Package: bcSeq Version: 1.31.0 Command: /home/biocbuild/R/R/bin/R CMD INSTALL bcSeq StartedAt: 2025-10-16 21:27:56 -0000 (Thu, 16 Oct 2025) EndedAt: 2025-10-16 21:28:44 -0000 (Thu, 16 Oct 2025) EllapsedTime: 48.7 seconds RetCode: 0 Status: OK