Package: bcSeq Version: 1.31.0 Command: /home/biocbuild/R/R/bin/R CMD build --keep-empty-dirs --no-resave-data bcSeq StartedAt: 2025-10-16 23:19:54 -0000 (Thu, 16 Oct 2025) EndedAt: 2025-10-16 23:20:55 -0000 (Thu, 16 Oct 2025) EllapsedTime: 61.0 seconds RetCode: 0 Status: OK PackageFile: bcSeq_1.31.0.tar.gz PackageFileSize: 227.6 KiB