Package: bcSeq Version: 1.31.0 Command: /Library/Frameworks/R.framework/Resources/bin/R CMD INSTALL bcSeq StartedAt: 2025-10-19 15:08:05 -0400 (Sun, 19 Oct 2025) EndedAt: 2025-10-19 15:08:17 -0400 (Sun, 19 Oct 2025) EllapsedTime: 11.8 seconds RetCode: 0 Status: OK