Package: bcSeq Version: 1.31.0 Command: /Library/Frameworks/R.framework/Resources/bin/R CMD check --install=check:bcSeq.install-out.txt --library=/Library/Frameworks/R.framework/Resources/library --no-vignettes --timings bcSeq_1.31.0.tar.gz StartedAt: 2025-10-19 18:33:37 -0400 (Sun, 19 Oct 2025) EndedAt: 2025-10-19 18:34:15 -0400 (Sun, 19 Oct 2025) EllapsedTime: 37.4 seconds RetCode: 0 Status: WARNINGS CheckDir: bcSeq.Rcheck Warnings: 1