Package: baySeq Version: 2.43.0 Command: chmod a+r baySeq -R && F:\biocbuild\bbs-3.22-bioc\R\bin\R.exe CMD build --keep-empty-dirs --no-resave-data baySeq StartedAt: 2025-08-14 18:35:20 -0400 (Thu, 14 Aug 2025) EndedAt: 2025-08-14 18:44:31 -0400 (Thu, 14 Aug 2025) EllapsedTime: 551.7 seconds RetCode: 0 Status: OK PackageFile: baySeq_2.43.0.tar.gz PackageFileSize: 1.127 MiB