Package: baySeq Version: 2.43.0 Command: rm -rf baySeq.buildbin-libdir && mkdir baySeq.buildbin-libdir && F:\biocbuild\bbs-3.22-bioc\R\bin\R.exe CMD INSTALL --build --library=baySeq.buildbin-libdir baySeq_2.43.0.tar.gz StartedAt: 2025-08-15 09:47:04 -0400 (Fri, 15 Aug 2025) EndedAt: 2025-08-15 09:47:50 -0400 (Fri, 15 Aug 2025) EllapsedTime: 45.3 seconds RetCode: 0 Status: OK PackageFile: baySeq_2.43.0.zip PackageFileSize: 1.614 MiB