Package: baySeq Version: 2.43.0 Command: /home/biocbuild/bbs-3.22-bioc/R/bin/R CMD check --install=check:baySeq.install-out.txt --library=/home/biocbuild/bbs-3.22-bioc/R/site-library --timings baySeq_2.43.0.tar.gz StartedAt: 2025-10-19 21:20:36 -0400 (Sun, 19 Oct 2025) EndedAt: 2025-10-19 21:28:48 -0400 (Sun, 19 Oct 2025) EllapsedTime: 492.0 seconds RetCode: 0 Status: OK CheckDir: baySeq.Rcheck Warnings: 0