Package: baySeq Version: 2.43.0 Command: /Library/Frameworks/R.framework/Resources/bin/R CMD INSTALL baySeq StartedAt: 2025-10-19 15:19:25 -0400 (Sun, 19 Oct 2025) EndedAt: 2025-10-19 15:19:50 -0400 (Sun, 19 Oct 2025) EllapsedTime: 25.0 seconds RetCode: 0 Status: OK