Package: baySeq Version: 2.43.0 Command: /Library/Frameworks/R.framework/Resources/bin/R CMD check --install=check:baySeq.install-out.txt --library=/Library/Frameworks/R.framework/Resources/library --no-vignettes --timings baySeq_2.43.0.tar.gz StartedAt: 2025-10-19 20:29:01 -0400 (Sun, 19 Oct 2025) EndedAt: 2025-10-19 20:32:17 -0400 (Sun, 19 Oct 2025) EllapsedTime: 195.7 seconds RetCode: 0 Status: OK CheckDir: baySeq.Rcheck Warnings: 0