Package: baySeq Version: 2.43.0 Command: rm -rf baySeq.buildbin-libdir && mkdir baySeq.buildbin-libdir && /Users/biocbuild/BBS/utils/build-universal.sh baySeq_2.43.0.tar.gz /Library/Frameworks/R.framework/Resources/bin/R baySeq.buildbin-libdir StartedAt: 2025-10-20 02:57:37 -0400 (Mon, 20 Oct 2025) EndedAt: 2025-10-20 02:58:03 -0400 (Mon, 20 Oct 2025) EllapsedTime: 26.4 seconds RetCode: 0 Status: OK PackageFile: baySeq_2.43.0.tgz PackageFileSize: 1.609 MiB