Package: baySeq Version: 2.43.0 Command: /Library/Frameworks/R.framework/Resources/bin/R CMD INSTALL baySeq StartedAt: 2025-10-23 15:10:52 -0400 (Thu, 23 Oct 2025) EndedAt: 2025-10-23 15:10:58 -0400 (Thu, 23 Oct 2025) EllapsedTime: 6.2 seconds RetCode: 0 Status: OK