Package: bayNorm Version: 1.27.0 Command: /home/biocbuild/bbs-3.22-bioc/R/bin/R CMD INSTALL bayNorm StartedAt: 2025-10-19 15:20:07 -0400 (Sun, 19 Oct 2025) EndedAt: 2025-10-19 15:20:52 -0400 (Sun, 19 Oct 2025) EllapsedTime: 45.0 seconds RetCode: 0 Status: OK