Package: batchelor Version: 1.26.0 Command: /home/biocbuild/R/R/bin/R CMD INSTALL batchelor StartedAt: 2025-11-17 22:05:14 -0000 (Mon, 17 Nov 2025) EndedAt: 2025-11-17 22:06:10 -0000 (Mon, 17 Nov 2025) EllapsedTime: 55.7 seconds RetCode: 0 Status: OK