Package: batchelor Version: 1.26.0 Command: /Library/Frameworks/R.framework/Resources/bin/R CMD INSTALL batchelor StartedAt: 2025-11-17 18:45:05 -0500 (Mon, 17 Nov 2025) EndedAt: 2025-11-17 18:46:37 -0500 (Mon, 17 Nov 2025) EllapsedTime: 92.2 seconds RetCode: 0 Status: OK