Package: batchelor Version: 1.26.0 Command: /Library/Frameworks/R.framework/Resources/bin/R CMD build --keep-empty-dirs --no-resave-data batchelor StartedAt: 2025-11-17 20:23:00 -0500 (Mon, 17 Nov 2025) EndedAt: 2025-11-17 20:30:37 -0500 (Mon, 17 Nov 2025) EllapsedTime: 456.7 seconds RetCode: 0 Status: OK PackageFile: batchelor_1.26.0.tar.gz PackageFileSize: 2.035 MiB