Package: batchelor Version: 1.26.0 Command: rm -rf batchelor.buildbin-libdir && mkdir batchelor.buildbin-libdir && /Users/biocbuild/BBS/utils/build-universal.sh batchelor_1.26.0.tar.gz /Library/Frameworks/R.framework/Resources/bin/R batchelor.buildbin-libdir StartedAt: 2025-11-18 17:12:20 -0500 (Tue, 18 Nov 2025) EndedAt: 2025-11-18 17:13:55 -0500 (Tue, 18 Nov 2025) EllapsedTime: 94.8 seconds RetCode: 0 Status: OK PackageFile: batchelor_1.26.0.tgz PackageFileSize: 2.266 MiB