Package: basilisk Version: 1.22.0 Command: /Library/Frameworks/R.framework/Resources/bin/R CMD check --install=check:basilisk.install-out.txt --library=/Library/Frameworks/R.framework/Resources/library --no-vignettes --timings basilisk_1.22.0.tar.gz StartedAt: 2025-11-10 18:51:24 -0500 (Mon, 10 Nov 2025) EndedAt: 2025-11-10 18:55:37 -0500 (Mon, 10 Nov 2025) EllapsedTime: 253.2 seconds RetCode: 0 Status: OK CheckDir: basilisk.Rcheck Warnings: 0